BEGIN:VCALENDAR
PRODID:-//Feedo Feed//NONSGML v1.0//EN
VERSION:2.0
CALSCALE:GREGORIAN
METHOD:PUBLISH
X-WR-CALNAME:Tommy Sullivan
X-WR-CALDESC:
X-MS-OLK-FORCEINSPECTOROPEN:TRUE
BEGIN:VEVENT
DTSTAMP:20260424T075420Z
DTSTART:20171207T220000Z
DTEND:20171207T224500Z
TRANSP:TRANSPARENT
UID:581842017-12-07
SUMMARY:Tommy Sullivan
DESCRIPTION:
URL:http://mail.cmcatlanta.com/index.php/component/ohanah/tommy-sullivan-89?format=html&amp;Itemid=
CATEGORIES:Emily Hindes
GEO:33.7646878;-84.35068100000001
LOCATION:CMC Little 5 Points, Private Lesson
END:VEVENT
END:VCALENDAR