BEGIN:VCALENDAR
PRODID:-//Feedo Feed//NONSGML v1.0//EN
VERSION:2.0
CALSCALE:GREGORIAN
METHOD:PUBLISH
X-WR-CALNAME:Thanksgiving Break: all locations and programs closed
X-WR-CALDESC:
X-MS-OLK-FORCEINSPECTOROPEN:TRUE
BEGIN:VEVENT
DTSTAMP:20260423T192737Z
DTSTART:20231120T040000Z
DTEND:20231126T220000Z
TRANSP:TRANSPARENT
UID:1109262023-11-20
SUMMARY:Thanksgiving Break: all locations and programs closed
DESCRIPTION:
URL:http://mail.cmcatlanta.com/index.php/component/ohanah/thanksgiving-break-all-locations-and-programs-closed?format=html&amp;Itemid=
CATEGORIES:Master Calendar
GEO:33.7646878;-84.35068100000001
LOCATION:CMC Atlanta
END:VEVENT
END:VCALENDAR