BEGIN:VCALENDAR
PRODID:-//Feedo Feed//NONSGML v1.0//EN
VERSION:2.0
CALSCALE:GREGORIAN
METHOD:PUBLISH
X-WR-CALNAME:L5P Halloween Festival and Parade
X-WR-CALDESC:Music, monsters, and more.  \n \nPerformance times and stage TBD; parade is on Sunday at 2:00pm.  
X-MS-OLK-FORCEINSPECTOROPEN:TRUE
BEGIN:VEVENT
DTSTAMP:20260424T050553Z
DTSTART:20231021T040000Z
DTEND:20231022T220000Z
TRANSP:TRANSPARENT
UID:1117632023-10-21
SUMMARY:L5P Halloween Festival and Parade
DESCRIPTION:Music, monsters, and more.  \n \nPerformance times and stage TBD; parade is on Sunday at 2:00pm.  
URL:http://mail.cmcatlanta.com/index.php/component/ohanah/l5p-halloween-festival-and-parade?format=html&amp;Itemid=
CATEGORIES:Master Calendar
GEO:33.7646878;-84.35068100000001
LOCATION:CMC Little 5 Points 
END:VEVENT
END:VCALENDAR