BEGIN:VCALENDAR
PRODID:-//Feedo Feed//NONSGML v1.0//EN
VERSION:2.0
CALSCALE:GREGORIAN
METHOD:PUBLISH
X-WR-CALNAME:Elizabeth Yang
X-WR-CALDESC:
X-MS-OLK-FORCEINSPECTOROPEN:TRUE
BEGIN:VEVENT
DTSTAMP:20260424T152935Z
DTSTART:20170920T134500Z
DTEND:20170920T140000Z
TRANSP:TRANSPARENT
UID:582492017-09-20
SUMMARY:Elizabeth Yang
DESCRIPTION:
URL:http://mail.cmcatlanta.com/index.php/component/ohanah/elizabeth-yang-72?format=html&amp;Itemid=
CATEGORIES:Richard Mills
GEO:
LOCATION:CMC Brookhaven, Private Lesson
END:VEVENT
END:VCALENDAR