BEGIN:VCALENDAR
PRODID:-//Feedo Feed//NONSGML v1.0//EN
VERSION:2.0
CALSCALE:GREGORIAN
METHOD:PUBLISH
X-WR-CALNAME:CMC Atlanta Student Recital - Decatur
X-WR-CALDESC:Recital open to all CMC students.  Come play your favorite piece for family and friends!
X-MS-OLK-FORCEINSPECTOROPEN:TRUE
BEGIN:VEVENT
DTSTAMP:20260424T072608Z
DTSTART:20231014T180000Z
DTEND:20231014T200000Z
TRANSP:TRANSPARENT
UID:1117642023-10-14
SUMMARY:CMC Atlanta Student Recital - Decatur
DESCRIPTION:Recital open to all CMC students.  Come play your favorite piece for family and friends!
URL:http://mail.cmcatlanta.com/index.php/component/ohanah/cmc-atlanta-student-recital-decatur-1?format=html&amp;Itemid=
CATEGORIES:Master Calendar
GEO:33.7704955;-84.29584339999997
LOCATION:CMC Decatur
END:VEVENT
END:VCALENDAR